Workbook

Sheet Template Guide
B1: Risk Assessment Template
B3: Guide - How to use this Template
B5: 1 | C5: On the "1. Assess Risks" sheet, fill all the blue cells with your project information, and your assessment of the risk
D6: on your specific project, using the zero to 4 guidance. Fill in all the cells. If for some reason
D7: a risk statement is not applicable to your project, assign a zero.
B9: 2
B18: 3
B22: 4

Sheet 1. Assess Risks
B1: Risk Assessment Template
B3: 1. ENTER PROJECT DETAILS: | D3: 2. USE RATINGS TO ANSWER EACH RISK QUESTION:
B4: Project: | C4: Project ABC | D4: 0 - N/A
B5: Date of Assessment: | D5: 1 - Small risk, no PII, Public
B6: Planned Target Month: | D6: 2 - Moderate risk, Non sensit PII, Internal, existing vendor
B7: Template Completed by (who): | C7: John Doe | D7: 3 - Significant risk, Restricted, Sensitive PII
D8: 4 - High risk, HiR, InfoSec, IP, new vendor
A9: Risk # | B9: FOR EACH QUESTION, ASK OF YOURSELF/THE TEAM - "WHAT IS THE RISK TO THE START-UP RESULT FROM THIS FACTOR?" | E9: Level of Risk
A10: 1 | B10: Country
A11: 1.1 | B11: China | E11: 4 | F11: Ensure Privacy, Information Security and Legal documentation are completed and approved.
A12: 1.2 | B12: Europe/European Union | E12: 4 | F12: Ensure Privacy, Information Security and Legal documentation are completed and approved.
A13: 1.3 | B13: Africa/Mid East | E13: 0 | F13: Ensure Privacy, Information Security and Legal documentation are completed and approved.
A14: 1.4 | B14: Latin America | E14: 0 | F14: Ensure Privacy, Information Security and Legal documentation are completed and approved.
A15: 2 | B15: Primary Objective
A16: 2.1 | B16: New technology introduced | E16: 4 | F16: Review for Record Lifecycle Management, Information Security and Operational Validation.
A17: 2.2 | B17: A new or significant change to an application that provides regulated support | E17: 0 | F17: Review for Record Lifecycle Management, Information Security and Regulatory Validation.
A18: 2.3 | B18: New or Change in Cloud Computing | E18: 4 | F18: Complete Cloud Vetting Assesment.
A19: 2.4 | B19: New business geography (new for this application/project; new for the Company) | E19: 0 | F19: Review legal risks and local laws vs. retention schedule.
A20: 2.5 | B20: New--or--major upgrade to an IT Application | E20: 0 | F20: Ensure all current standards and policies are followed.
A21: 3 | B21: ?
A22: 3.1
A23: 3.2
A24: 3.3
A25: 3.4
A26: 3.5
A27: 4 | B27: 4
A28: 4.1
A29: 4.2
A30: 4.3
A31: 4.4
A32: 4.5
A33: 5 | B33: 5
A34: 5.1
A35: 5.2
A36: 5.3
A37: 5.4
A38: 5.5
A39: 6 | B39: 6
A40: 6.1
A41: 6.2
A42: 6.3
A43: 6.4
A44: 6.5
A45: 7 | B45: 7
A46: 7.1
A47: 7.2
A48: 7.3
A49: 7.4
A50: 7.5
A51: 7.6
A52: 8 | B52: 8
A53: 8.1
A54: 8.2
A55: 8.3
A56: 8.4
A57: 9 | B57: 9
A58: 9.1
A59: 9.2
A60: 9.3
A61: 9.4
A62: 9.5
A63: 9.6
A64: 10 | B64: 10
A65: 10.1
A66: 10.2
A67: 11 | B67: 11
A68: 11.1
A69: 11.2
A70: 11.3
A71: 12 | B71: 12
A72: 12.1
A73: 12.2
A74: 12.3

Sheet 2. Output - summary
B1: Risk Assessment Template
B3: ='1. Assess Risks'!D4 -> 0 - N/A | E3: Project: | F3: ='1. Assess Risks'!C4 -> Project ABC
B4: ='1. Assess Risks'!D5 -> 1 - Small risk, no PII, Public | E4: Date of Assessment: | F4: ='1. Assess Risks'!C5 -> 0
B5: ='1. Assess Risks'!D6 -> 2 - Moderate risk, Non sensit PII, Internal, existing vendor | E5: Planned Target Month: | F5: ='1. Assess Risks'!C6 -> 0
B6: ='1. Assess Risks'!D7 -> 3 - Significant risk, Restricted, Sensitive PII | E6: Template Completed by (who): | F6: ='1. Assess Risks'!C7 -> John Doe
B7: ='1. Assess Risks'!D8 -> 4 - High risk, HiR, InfoSec, IP, new vendor
B9: Average Score by Risk Area: | F9: High Score = High Risk Area!
A10: ='1. Assess Risks'!A10 -> 1 | B10: ='1. Assess Risks'!B10 -> Country | C10: =AVERAGE('1. Assess Risks'!E11:E14) -> 2 | D10: =Calculation!$E$28*(('2. Output - summary'!C10)+1)^Calculation!$G$28 -> 0.14135737 | E10: =1-D10 -> 0.85864263
A11: ='1. Assess Risks'!A15 -> 2 | B11: ='1. Assess Risks'!B15 -> Primary Objective | C11: =AVERAGE('1. Assess Risks'!E16:E20) -> 1.6 | D11: =Calculation!$E$28*(('2. Output - summary'!C11)+1)^Calculation!$G$28 -> 0.088848174 | E11: =1-D11 -> 0.91115183
A12: ='1. Assess Risks'!A21 -> 3 | B12: ='1. Assess Risks'!B21 -> ? | C12: =AVERAGE('1. Assess Risks'!E22:E26) -> #DIV/0! | D12: =Calculation!$E$28*(('2. Output - summary'!C12)+1)^Calculation!$G$28 -> #DIV/0! | E12: =1-D12 -> #DIV/0!
A13: ='1. Assess Risks'!A27 -> 4 | B13: ='1. Assess Risks'!B27 -> 4 | C13: =AVERAGE('1. Assess Risks'!E28:E32) -> #DIV/0! | D13: =Calculation!$E$28*(('2. Output - summary'!C13)+1)^Calculation!$G$28 -> #DIV/0! | E13: =1-D13 -> #DIV/0!
A14: ='1. Assess Risks'!A33 -> 5 | B14: ='1. Assess Risks'!B33 -> 5 | C14: =AVERAGE('1. Assess Risks'!E34:E38) -> #DIV/0! | D14: =Calculation!$E$28*(('2. Output - summary'!C14)+1)^Calculation!$G$28 -> #DIV/0! | E14: =1-D14 -> #DIV/0!
A15: ='1. Assess Risks'!A39 -> 6 | B15: ='1. Assess Risks'!B39 -> 6 | C15: =AVERAGE('1. Assess Risks'!E40:E44) -> #DIV/0! | D15: =Calculation!$E$28*(('2. Output - summary'!C15)+1)^Calculation!$G$28 -> #DIV/0! | E15: =1-D15 -> #DIV/0!
A16: ='1. Assess Risks'!A45 -> 7 | B16: ='1. Assess Risks'!B45 -> 7 | C16: =AVERAGE('1. Assess Risks'!E46:E51) -> #DIV/0! | D16: =Calculation!$E$28*(('2. Output - summary'!C16)+1)^Calculation!$G$28 -> #DIV/0! | E16: =1-D16 -> #DIV/0!
A17: ='1. Assess Risks'!A52 -> 8 | B17: ='1. Assess Risks'!B52 -> 8 | C17: =AVERAGE('1. Assess Risks'!E53:E56) -> #DIV/0! | D17: =Calculation!$E$28*(('2. Output - summary'!C17)+1)^Calculation!$G$28 -> #DIV/0! | E17: =1-D17 -> #DIV/0!
A18: ='1. Assess Risks'!A57 -> 9 | B18: ='1. Assess Risks'!B57 -> 9 | C18: =AVERAGE('1. Assess Risks'!E58:E63) -> #DIV/0! | D18: =Calculation!$E$28*(('2. Output - summary'!C18)+1)^Calculation!$G$28 -> #DIV/0! | E18: =1-D18 -> #DIV/0!
A19: ='1. Assess Risks'!A64 -> 10 | B19: ='1. Assess Risks'!B64 -> 10 | C19: =AVERAGE('1. Assess Risks'!E65:E66) -> #DIV/0! | D19: =Calculation!$E$28*(('2. Output - summary'!C19)+1)^Calculation!$G$28 -> #DIV/0! | E19: =1-D19 -> #DIV/0!
A20: ='1. Assess Risks'!A67 -> 11 | B20: ='1. Assess Risks'!B67 -> 11 | C20: =AVERAGE('1. Assess Risks'!E68:E70) -> #DIV/0! | D20: =Calculation!$E$28*(('2. Output - summary'!C20)+1)^Calculation!$G$28 -> #DIV/0! | E20: =1-D20 -> #DIV/0!
A21: ='1. Assess Risks'!A71 -> 12 | B21: ='1. Assess Risks'!B71 -> 12 | C21: =AVERAGE('1. Assess Risks'!E72:E74) -> #DIV/0! | D21: =Calculation!$E$28*(('2. Output - summary'!C21)+1)^Calculation!$G$28 -> #DIV/0! | E21: =1-D21 -> #DIV/0!
A23: Overall Estimated Probability of mitigating risks
B24: =PRODUCT(E10:E21) -> #DIV/0!
B26: Number of Areas rated 4 - | C26: =COUNTIF('1. Assess Risks'!$E$11:$E$74,4) -> 4
B27: Number of Areas rated 3 - | C27: =COUNTIF('1. Assess Risks'!$E$11:$E$74,3) -> 0
B28: Number of Areas rated 2 - | C28: =COUNTIF('1. Assess Risks'!$E$11:$E$74,2) -> 0
B29: Number of Areas rated 1 - | C29: =COUNTIF('1. Assess Risks'!$E$11:$E$74,1) -> 0
B30: Number of Areas rated 0 - | C30: =COUNTIF('1. Assess Risks'!$E$11:$E$74,0) -> 5
B31: =IF(SUM($C$26:$C$30)=53,"","NOT ALL 53 QUESTIONS ANSWERED!!") -> NOT ALL 53 QUESTIONS ANSWERED!!

Sheet 3. Output - indicated actions
C1: Risk Assessment Template
E3: Project: | F3: ='1. Assess Risks'!C4 -> Project ABC
E4: Date of Assessment: | F4: ='1. Assess Risks'!C5 -> 0
E5: Planned Target Month: | F5: ='1. Assess Risks'!C6 -> 0
E6: Template Completed by (who): | F6: ='1. Assess Risks'!C7 -> John Doe
D9: 1.5 | E9: Enter action limit for Individual Risk Ratings
D10: 2.5 | E10: Enter action limit for Group Risk Ratings (not always needed)
A12: Risk # | C12: Individual Rating | D12: Group Rating | E12: Indicated Action (if any)
A13: ='1. Assess Risks'!A11 -> 1.1 | B13: ='1. Assess Risks'!B11 -> China | C13: ='1. Assess Risks'!E11 -> 4 | D13: ='2. Output - summary'!$C$10 -> 2 | E13: =IF(OR(C13>=$D$9,D13>=$D$10),'1. Assess Risks'!F11,"") -> Ensure Privacy, Information Security and Legal documentation are completed and approved.
A14: ='1. Assess Risks'!A12 -> 1.2 | B14: ='1. Assess Risks'!B12 -> Europe/European Union | C14: ='1. Assess Risks'!E12 -> 4 | D14: ='2. Output - summary'!$C$10 -> 2 | E14: =IF(OR(C14>=$D$9,D14>=$D$10),'1. Assess Risks'!F12,"") -> Ensure Privacy, Information Security and Legal documentation are completed and approved.
A15: ='1. Assess Risks'!A13 -> 1.3 | B15: ='1. Assess Risks'!B13 -> Africa/Mid East | C15: ='1. Assess Risks'!E13 -> 0 | D15: ='2. Output - summary'!$C$10 -> 2 | E15: =IF(OR(C15>=$D$9,D15>=$D$10),'1. Assess Risks'!F13,"")
A16: ='1. Assess Risks'!A14 -> 1.4 | B16: ='1. Assess Risks'!B14 -> Latin America | C16: ='1. Assess Risks'!E14 -> 0 | D16: ='2. Output - summary'!$C$10 -> 2 | E16: =IF(OR(C16>=$D$9,D16>=$D$10),'1. Assess Risks'!F14,"")
A17: ='1. Assess Risks'!A16 -> 2.1 | B17: ='1. Assess Risks'!B16 -> New technology introduced | C17: ='1. Assess Risks'!E16 -> 4 | D17: ='2. Output - summary'!$C$11 -> 1.6 | E17: =IF(OR(C17>=$D$9,D17>=$D$10),'1. Assess Risks'!F16,"") -> Review for Record Lifecycle Management, Information Security and Operational Validation.
A18: ='1. Assess Risks'!A17 -> 2.2 | B18: ='1. Assess Risks'!B17 -> A new or significant change to an application that provides regulated support | C18: ='1. Assess Risks'!E17 -> 0 | D18: ='2. Output - summary'!$C$11 -> 1.6 | E18: =IF(OR(C18>=$D$9,D18>=$D$10),'1. Assess Risks'!F17,"")
A19: ='1. Assess Risks'!A18 -> 2.3 | B19: ='1. Assess Risks'!B18 -> New or Change in Cloud Computing | C19: ='1. Assess Risks'!E18 -> 4 | D19: ='2. Output - summary'!$C$11 -> 1.6 | E19: =IF(OR(C19>=$D$9,D19>=$D$10),'1. Assess Risks'!F18,"") -> Complete Cloud Vetting Assesment.
A20: ='1. Assess Risks'!A19 -> 2.4 | B20: ='1. Assess Risks'!B19 -> New business geography (new for this application/project; new for the Company) | C20: ='1. Assess Risks'!E19 -> 0 | D20: ='2. Output - summary'!$C$11 -> 1.6 | E20: =IF(OR(C20>=$D$9,D20>=$D$10),'1. Assess Risks'!F19,"")
A21: ='1. Assess Risks'!A20 -> 2.5 | B21: ='1. Assess Risks'!B20 -> New--or--major upgrade to an IT Application | C21: ='1. Assess Risks'!E20 -> 0 | D21: ='2. Output - summary'!$C$11 -> 1.6 | E21: =IF(OR(C21>=$D$9,D21>=$D$10),'1. Assess Risks'!F20,"")
A22: ='1. Assess Risks'!A22 -> 3.1 | B22: ='1. Assess Risks'!B22 -> 0 | C22: ='1. Assess Risks'!E22 -> 0 | D22: ='2. Output - summary'!$C$12 -> #DIV/0! | E22: =IF(OR(C22>=$D$9,D22>=$D$10),'1. Assess Risks'!F22,"") -> #DIV/0!
A23: ='1. Assess Risks'!A23 -> 3.2 | B23: ='1. Assess Risks'!B23 -> 0 | C23: ='1. Assess Risks'!E23 -> 0 | D23: ='2. Output - summary'!$C$12 -> #DIV/0! | E23: =IF(OR(C23>=$D$9,D23>=$D$10),'1. Assess Risks'!F23,"") -> #DIV/0!
A24: ='1. Assess Risks'!A24 -> 3.3 | B24: ='1. Assess Risks'!B24 -> 0 | C24: ='1. Assess Risks'!E24 -> 0 | D24: ='2. Output - summary'!$C$12 -> #DIV/0! | E24: =IF(OR(C24>=$D$9,D24>=$D$10),'1. Assess Risks'!F24,"") -> #DIV/0!
A25: ='1. Assess Risks'!A25 -> 3.4 | B25: ='1. Assess Risks'!B25 -> 0 | C25: ='1. Assess Risks'!E25 -> 0 | D25: ='2. Output - summary'!$C$12 -> #DIV/0! | E25: =IF(OR(C25>=$D$9,D25>=$D$10),'1. Assess Risks'!F25,"") -> #DIV/0!
A26: ='1. Assess Risks'!A26 -> 3.5 | B26: ='1. Assess Risks'!B26 -> 0 | C26: ='1. Assess Risks'!E26 -> 0 | D26: ='2. Output - summary'!$C$12 -> #DIV/0! | E26: =IF(OR(C26>=$D$9,D26>=$D$10),'1. Assess Risks'!F26,"") -> #DIV/0!
A27: ='1. Assess Risks'!A28 -> 4.1 | B27: ='1. Assess Risks'!B28 -> 0 | C27: ='1. Assess Risks'!E28 -> 0 | D27: ='2. Output - summary'!$C$13 -> #DIV/0! | E27: =IF(OR(C27>=$D$9,D27>=$D$10),'1. Assess Risks'!F28,"") -> #DIV/0!
A28: ='1. Assess Risks'!A29 -> 4.2 | B28: ='1. Assess Risks'!B29 -> 0 | C28: ='1. Assess Risks'!E29 -> 0 | D28: ='2. Output - summary'!$C$13 -> #DIV/0! | E28: =IF(OR(C28>=$D$9,D28>=$D$10),'1. Assess Risks'!F29,"") -> #DIV/0!
A29: ='1. Assess Risks'!A30 -> 4.3 | B29: ='1. Assess Risks'!B30 -> 0 | C29: ='1. Assess Risks'!E30 -> 0 | D29: ='2. Output - summary'!$C$13 -> #DIV/0! | E29: =IF(OR(C29>=$D$9,D29>=$D$10),'1. Assess Risks'!F30,"") -> #DIV/0!
A30: ='1. Assess Risks'!A31 -> 4.4 | B30: ='1. Assess Risks'!B31 -> 0 | C30: ='1. Assess Risks'!E31 -> 0 | D30: ='2. Output - summary'!$C$13 -> #DIV/0! | E30: =IF(OR(C30>=$D$9,D30>=$D$10),'1. Assess Risks'!F31,"") -> #DIV/0!
A31: ='1. Assess Risks'!A32 -> 4.5 | B31: ='1. Assess Risks'!B32 -> 0 | C31: ='1. Assess Risks'!E32 -> 0 | D31: ='2. Output - summary'!$C$13 -> #DIV/0! | E31: =IF(OR(C31>=$D$9,D31>=$D$10),'1. Assess Risks'!F32,"") -> #DIV/0!
A32: ='1. Assess Risks'!A34 -> 5.1 | B32: ='1. Assess Risks'!B34 -> 0 | C32: ='1. Assess Risks'!E34 -> 0 | D32: ='2. Output - summary'!$C$14 -> #DIV/0! | E32: =IF(OR(C32>=$D$9,D32>=$D$10),'1. Assess Risks'!F34,"") -> #DIV/0!
A33: ='1. Assess Risks'!A36 -> 5.3 | B33: ='1. Assess Risks'!B36 -> 0 | C33: ='1. Assess Risks'!E36 -> 0 | D33: ='2. Output - summary'!$C$14 -> #DIV/0! | E33: =IF(OR(C33>=$D$9,D33>=$D$10),'1. Assess Risks'!F36,"") -> #DIV/0!
A34: ='1. Assess Risks'!A37 -> 5.4 | B34: ='1. Assess Risks'!B37 -> 0 | C34: ='1. Assess Risks'!E37 -> 0 | D34: ='2. Output - summary'!$C$14 -> #DIV/0! | E34: =IF(OR(C34>=$D$9,D34>=$D$10),'1. Assess Risks'!F37,"") -> #DIV/0!
A35: ='1. Assess Risks'!A38 -> 5.5 | B35: ='1. Assess Risks'!B38 -> 0 | C35: ='1. Assess Risks'!E38 -> 0 | D35: ='2. Output - summary'!$C$14 -> #DIV/0! | E35: =IF(OR(C35>=$D$9,D35>=$D$10),'1. Assess Risks'!F38,"") -> #DIV/0!
A36: ='1. Assess Risks'!A40 -> 6.1 | B36: ='1. Assess Risks'!B40 -> 0 | C36: ='1. Assess Risks'!E40 -> 0 | D36: ='2. Output - summary'!$C$15 -> #DIV/0! | E36: =IF(OR(C36>=$D$9,D36>=$D$10),'1. Assess Risks'!F40,"") -> #DIV/0!
A37: ='1. Assess Risks'!A41 -> 6.2 | B37: ='1. Assess Risks'!B41 -> 0 | C37: ='1. Assess Risks'!E41 -> 0 | D37: ='2. Output - summary'!$C$15 -> #DIV/0! | E37: =IF(OR(C37>=$D$9,D37>=$D$10),'1. Assess Risks'!F41,"") -> #DIV/0!
A38: ='1. Assess Risks'!A42 -> 6.3 | B38: ='1. Assess Risks'!B42 -> 0 | C38: ='1. Assess Risks'!E42 -> 0 | D38: ='2. Output - summary'!$C$15 -> #DIV/0! | E38: =IF(OR(C38>=$D$9,D38>=$D$10),'1. Assess Risks'!F42,"") -> #DIV/0!
A39: ='1. Assess Risks'!A43 -> 6.4 | B39: ='1. Assess Risks'!B43 -> 0 | C39: ='1. Assess Risks'!E43 -> 0 | D39: ='2. Output - summary'!$C$15 -> #DIV/0! | E39: =IF(OR(C39>=$D$9,D39>=$D$10),'1. Assess Risks'!F43,"") -> #DIV/0!
A40: ='1. Assess Risks'!A44 -> 6.5 | B40: ='1. Assess Risks'!B44 -> 0 | C40: ='1. Assess Risks'!E44 -> 0 | D40: ='2. Output - summary'!$C$15 -> #DIV/0! | E40: =IF(OR(C40>=$D$9,D40>=$D$10),'1. Assess Risks'!F44,"") -> #DIV/0!
A41: ='1. Assess Risks'!A46 -> 7.1 | B41: ='1. Assess Risks'!B46 -> 0 | C41: ='1. Assess Risks'!E46 -> 0 | D41: ='2. Output - summary'!$C$16 -> #DIV/0! | E41: =IF(OR(C41>=$D$9,D41>=$D$10),'1. Assess Risks'!F46,"") -> #DIV/0!
A42: ='1. Assess Risks'!A47 -> 7.2 | B42: ='1. Assess Risks'!B47 -> 0 | C42: ='1. Assess Risks'!E47 -> 0 | D42: ='2. Output - summary'!$C$16 -> #DIV/0! | E42: =IF(OR(C42>=$D$9,D42>=$D$10),'1. Assess Risks'!F47,"") -> #DIV/0!
A43: ='1. Assess Risks'!A48 -> 7.3 | B43: ='1. Assess Risks'!B48 -> 0 | C43: ='1. Assess Risks'!E48 -> 0 | D43: ='2. Output - summary'!$C$16 -> #DIV/0! | E43: =IF(OR(C43>=$D$9,D43>=$D$10),'1. Assess Risks'!F48,"") -> #DIV/0!
A44: ='1. Assess Risks'!A49 -> 7.4 | B44: ='1. Assess Risks'!B49 -> 0 | C44: ='1. Assess Risks'!E49 -> 0 | D44: ='2. Output - summary'!$C$16 -> #DIV/0! | E44: =IF(OR(C44>=$D$9,D44>=$D$10),'1. Assess Risks'!F49,"") -> #DIV/0!
A45: ='1. Assess Risks'!A50 -> 7.5 | B45: ='1. Assess Risks'!B50 -> 0 | C45: ='1. Assess Risks'!E50 -> 0 | D45: ='2. Output - summary'!$C$16 -> #DIV/0! | E45: =IF(OR(C45>=$D$9,D45>=$D$10),'1. Assess Risks'!F50,"") -> #DIV/0!
A46: ='1. Assess Risks'!A51 -> 7.6 | B46: ='1. Assess Risks'!B51 -> 0 | C46: ='1. Assess Risks'!E51 -> 0 | D46: ='2. Output - summary'!$C$16 -> #DIV/0! | E46: =IF(OR(C46>=$D$9,D46>=$D$10),'1. Assess Risks'!F51,"") -> #DIV/0!
A47: ='1. Assess Risks'!A53 -> 8.1 | B47: ='1. Assess Risks'!B53 -> 0 | C47: ='1. Assess Risks'!E53 -> 0 | D47: ='2. Output - summary'!$C$17 -> #DIV/0! | E47: =IF(OR(C47>=$D$9,D47>=$D$10),'1. Assess Risks'!F53,"") -> #DIV/0!
A48: ='1. Assess Risks'!A54 -> 8.2 | B48: ='1. Assess Risks'!B54 -> 0 | C48: ='1. Assess Risks'!E54 -> 0 | D48: ='2. Output - summary'!$C$17 -> #DIV/0! | E48: =IF(OR(C48>=$D$9,D48>=$D$10),'1. Assess Risks'!F54,"") -> #DIV/0!
A49: ='1. Assess Risks'!A55 -> 8.3 | B49: ='1. Assess Risks'!B55 -> 0 | C49: ='1. Assess Risks'!E55 -> 0 | D49: ='2. Output - summary'!$C$17 -> #DIV/0! | E49: =IF(OR(C49>=$D$9,D49>=$D$10),'1. Assess Risks'!F55,"") -> #DIV/0!
A50: ='1. Assess Risks'!A56 -> 8.4 | B50: ='1. Assess Risks'!B56 -> 0 | C50: ='1. Assess Risks'!E56 -> 0 | D50: ='2. Output - summary'!$C$17 -> #DIV/0! | E50: =IF(OR(C50>=$D$9,D50>=$D$10),'1. Assess Risks'!F56,"") -> #DIV/0!
A51: ='1. Assess Risks'!A58 -> 9.1 | B51: ='1. Assess Risks'!B58 -> 0 | C51: ='1. Assess Risks'!E58 -> 0 | D51: ='2. Output - summary'!$C$18 -> #DIV/0! | E51: =IF(OR(C51>=$D$9,D51>=$D$10),'1. Assess Risks'!F58,"") -> #DIV/0!
A52: ='1. Assess Risks'!A59 -> 9.2 | B52: ='1. Assess Risks'!B59 -> 0 | C52: ='1. Assess Risks'!E59 -> 0 | D52: ='2. Output - summary'!$C$18 -> #DIV/0! | E52: =IF(OR(C52>=$D$9,D52>=$D$10),'1. Assess Risks'!F59,"") -> #DIV/0!
A53: ='1. Assess Risks'!A60 -> 9.3 | B53: ='1. Assess Risks'!B60 -> 0 | C53: ='1. Assess Risks'!E60 -> 0 | D53: ='2. Output - summary'!$C$18 -> #DIV/0! | E53: =IF(OR(C53>=$D$9,D53>=$D$10),'1. Assess Risks'!F60,"") -> #DIV/0!
A54: ='1. Assess Risks'!A61 -> 9.4 | B54: ='1. Assess Risks'!B61 -> 0 | C54: ='1. Assess Risks'!E61 -> 0 | D54: ='2. Output - summary'!$C$18 -> #DIV/0! | E54: =IF(OR(C54>=$D$9,D54>=$D$10),'1. Assess Risks'!F61,"") -> #DIV/0!
A55: ='1. Assess Risks'!A62 -> 9.5 | B55: ='1. Assess Risks'!B62 -> 0 | C55: ='1. Assess Risks'!E62 -> 0 | D55: ='2. Output - summary'!$C$18 -> #DIV/0! | E55: =IF(OR(C55>=$D$9,D55>=$D$10),'1. Assess Risks'!F62,"") -> #DIV/0!
A56: ='1. Assess Risks'!A63 -> 9.6 | B56: ='1. Assess Risks'!B63 -> 0 | C56: ='1. Assess Risks'!E63 -> 0 | D56: ='2. Output - summary'!$C$18 -> #DIV/0! | E56: =IF(OR(C56>=$D$9,D56>=$D$10),'1. Assess Risks'!F63,"") -> #DIV/0!
A57: ='1. Assess Risks'!A65 -> 10.1 | B57: ='1. Assess Risks'!B65 -> 0 | C57: ='1. Assess Risks'!E65 -> 0 | D57: ='2. Output - summary'!$C$19 -> #DIV/0! | E57: =IF(OR(C57>=$D$9,D57>=$D$10),'1. Assess Risks'!F65,"") -> #DIV/0!
A58: ='1. Assess Risks'!A66 -> 10.2 | B58: ='1. Assess Risks'!B66 -> 0 | C58: ='1. Assess Risks'!E66 -> 0 | D58: ='2. Output - summary'!$C$19 -> #DIV/0! | E58: =IF(OR(C58>=$D$9,D58>=$D$10),'1. Assess Risks'!F66,"") -> #DIV/0!
A59: ='1. Assess Risks'!A68 -> 11.1 | B59: ='1. Assess Risks'!B68 -> 0 | C59: ='1. Assess Risks'!E68 -> 0 | D59: ='2. Output - summary'!$C$20 -> #DIV/0! | E59: =IF(OR(C59>=$D$9,D59>=$D$10),'1. Assess Risks'!F68,"") -> #DIV/0!
A60: ='1. Assess Risks'!A69 -> 11.2 | B60: ='1. Assess Risks'!B69 -> 0 | C60: ='1. Assess Risks'!E69 -> 0 | D60: ='2. Output - summary'!$C$20 -> #DIV/0! | E60: =IF(OR(C60>=$D$9,D60>=$D$10),'1. Assess Risks'!F69,"") -> #DIV/0!
A61: ='1. Assess Risks'!A70 -> 11.3 | B61: ='1. Assess Risks'!B70 -> 0 | C61: ='1. Assess Risks'!E70 -> 0 | D61: ='2. Output - summary'!$C$20 -> #DIV/0! | E61: =IF(OR(C61>=$D$9,D61>=$D$10),'1. Assess Risks'!F70,"") -> #DIV/0!
A62: ='1. Assess Risks'!A72 -> 12.1 | B62: ='1. Assess Risks'!B72 -> 0 | C62: ='1. Assess Risks'!E72 -> 0 | D62: ='2. Output - summary'!$C$21 -> #DIV/0! | E62: =IF(OR(C62>=$D$9,D62>=$D$10),'1. Assess Risks'!F72,"") -> #DIV/0!
A63: ='1. Assess Risks'!A73 -> 12.2 | B63: ='1. Assess Risks'!B73 -> 0 | C63: ='1. Assess Risks'!E73 -> 0 | D63: ='2. Output - summary'!$C$21 -> #DIV/0! | E63: =IF(OR(C63>=$D$9,D63>=$D$10),'1. Assess Risks'!F73,"") -> #DIV/0!
A64: ='1. Assess Risks'!A74 -> 12.3 | C64: ='1. Assess Risks'!E74 -> 0 | D64: ='2. Output - summary'!$C$21 -> #DIV/0! | E64: =IF(OR(C64>=$D$9,D64>=$D$10),'1. Assess Risks'!F74,"") -> #DIV/0!

Sheet Calculation
A1: Risk Assessment Template
A3: Calculation sheet Only - No User Input Required Here
A7: Overall Probability Indicator Calculation
A9: Based on the ratings - | C9: ='1. Assess Risks'!D4 -> 0 - N/A
C10: ='1. Assess Risks'!D5 -> 1 - Small risk, no PII, Public
C11: ='1. Assess Risks'!D6 -> 2 - Moderate risk, Non sensit PII, Internal, existing vendor
C12: ='1. Assess Risks'!D7 -> 3 - Significant risk, Restricted, Sensitive PII
C13: ='1. Assess Risks'!D8 -> 4 - High risk, HiR, InfoSec, IP, new vendor
A15: Create a probability function:
B16: Rating | C16: Risk of this factor causing miss | D16: (i.e.)
B17: 0 | C17: 0.005 | D17: =C17 -> 0.005
B18: 1 | C18: 0.025 | D18: =C18 -> 0.025
B19: 2 | C19: 0.15 | D19: =C19 -> 0.15
B20: 3 | C20: 0.4 | D20: =C20 -> 0.4
B21: 4 | C21: 0.8 | D21: =C21 -> 0.8
A25: Equation on graph shows best fit (power) trend line automatically.
C27: Write values from this trend line equation here
D28: P(x) = | E28: 0.004 | F28: R^ | G28: 3.245 | I28: Where R = (Rating + 1)
B30: Then take the risk rating for each individual statement, and convert to a risk from this equation.
B31: Finally, take the product of (1-risks) to establish an overall likelihood of achieving goal
